BEGIN:VCALENDAR
VERSION:2.0
PRODID:-//BTAAC - ECPv4.0//NONSGML v1.0//EN
CALSCALE:GREGORIAN
METHOD:PUBLISH
X-WR-CALNAME:BTAAC
X-ORIGINAL-URL:https://www.bromleygastraining.co.uk
X-WR-CALDESC:Events for BTAAC
BEGIN:VEVENT
DTSTART;TZID="":20260521T080000
DTEND;TZID="":20260521T170000
DTSTAMP:20260424T221318
CREATED:20260309T131627
LAST-MODIFIED:20260309T131627
UID:1055-1779350400-1779382800@www.bromleygastraining.co.uk
SUMMARY:UHWSS - UNVENTED HOT WATER
DESCRIPTION:
URL:https://www.bromleygastraining.co.uk/course/uhwss-unvented-hot-water-89/
LOCATION:Unit 4\, Ashgrove Industrial Estate\, Bromley\, Kent \, BR1 4JW\, United Kingdom
END:VEVENT
END:VCALENDAR