BEGIN:VCALENDAR
VERSION:2.0
PRODID:-//BTAAC - ECPv4.0//NONSGML v1.0//EN
CALSCALE:GREGORIAN
METHOD:PUBLISH
X-WR-CALNAME:BTAAC
X-ORIGINAL-URL:https://www.bromleygastraining.co.uk
X-WR-CALDESC:Events for BTAAC
BEGIN:VEVENT
DTSTART;TZID="":20181206T080000
DTEND;TZID="":20181206T160000
DTSTAMP:20260424T165333
CREATED:20181204T140649
LAST-MODIFIED:20181204T140649
UID:505-1544083200-1544112000@www.bromleygastraining.co.uk
SUMMARY:UHWSS
DESCRIPTION:
URL:https://www.bromleygastraining.co.uk/course/uhwss-37/
LOCATION:Unit 4\, Ashgrove Industrial Estate\, Bromley\, Kent \, BR1 4JW\, United Kingdom
END:VEVENT
END:VCALENDAR