BEGIN:VCALENDAR
VERSION:2.0
PRODID:-//BTAAC - ECPv4.0//NONSGML v1.0//EN
CALSCALE:GREGORIAN
METHOD:PUBLISH
X-WR-CALNAME:BTAAC
X-ORIGINAL-URL:https://www.bromleygastraining.co.uk
X-WR-CALDESC:Events for BTAAC
BEGIN:VEVENT
DTSTART;TZID="":20180910T080000
DTEND;TZID="":20180913T160000
DTSTAMP:20260423T230746
CREATED:20180807T085554
LAST-MODIFIED:20180807T085554
UID:477-1536566400-1536854400@www.bromleygastraining.co.uk
SUMMARY:TBC
DESCRIPTION:
URL:https://www.bromleygastraining.co.uk/course/tbc-3/
LOCATION:Unit 4\, Ashgrove Industrial Estate\, Bromley\, Kent \, BR1 4JW\, United Kingdom
END:VEVENT
END:VCALENDAR