BEGIN:VCALENDAR
VERSION:2.0
PRODID:-//BTAAC - ECPv4.0//NONSGML v1.0//EN
CALSCALE:GREGORIAN
METHOD:PUBLISH
X-WR-CALNAME:BTAAC
X-ORIGINAL-URL:https://www.bromleygastraining.co.uk
X-WR-CALDESC:Events for BTAAC
BEGIN:VEVENT
DTSTART;TZID="":20180305T080000
DTEND;TZID="":20180308T160000
DTSTAMP:20260422T004254
CREATED:20180125T132129
LAST-MODIFIED:20180214T092807
UID:431-1520236800-1520524800@www.bromleygastraining.co.uk
SUMMARY:REFRESHER DOMESTIC CCN1 + APPLIANCES - FULLY BOOKED
DESCRIPTION:
URL:https://www.bromleygastraining.co.uk/course/refresher-domestic-ccn1-appliances/
LOCATION:Unit 4\, Ashgrove Industrial Estate\, Bromley\, Kent \, BR1 4JW\, United Kingdom
END:VEVENT
END:VCALENDAR