BEGIN:VCALENDAR
VERSION:2.0
PRODID:-//BTAAC - ECPv4.0//NONSGML v1.0//EN
CALSCALE:GREGORIAN
METHOD:PUBLISH
X-WR-CALNAME:BTAAC
X-ORIGINAL-URL:https://www.bromleygastraining.co.uk
X-WR-CALDESC:Events for BTAAC
BEGIN:VEVENT
DTSTART;TZID="":20181008T080000
DTEND;TZID="":20181011T170000
DTSTAMP:20260424T070043
CREATED:20180807T085912
LAST-MODIFIED:20180807T085912
UID:482-1538985600-1539277200@www.bromleygastraining.co.uk
SUMMARY:REFRESHER DOMESTIC CCN1 + APPLIANCES
DESCRIPTION:
URL:https://www.bromleygastraining.co.uk/course/refresher-domestic-ccn1-appliances-7/
LOCATION:Unit 4\, Ashgrove Industrial Estate\, Bromley\, Kent \, BR1 4JW\, United Kingdom
END:VEVENT
END:VCALENDAR