BEGIN:VCALENDAR
VERSION:2.0
PRODID:-//BTAAC - ECPv4.0//NONSGML v1.0//EN
CALSCALE:GREGORIAN
METHOD:PUBLISH
X-WR-CALNAME:BTAAC
X-ORIGINAL-URL:https://www.bromleygastraining.co.uk
X-WR-CALDESC:Events for BTAAC
BEGIN:VEVENT
DTSTART;TZID="":20180903T080000
DTEND;TZID="":20180906T160000
DTSTAMP:20260423T201132
CREATED:20180807T085122
LAST-MODIFIED:20180807T085122
UID:474-1535961600-1536249600@www.bromleygastraining.co.uk
SUMMARY:REFRESHER DOMESTIC CCN1 + APPLIANCES
DESCRIPTION:
URL:https://www.bromleygastraining.co.uk/course/refresher-domestic-ccn1-appliances-5/
LOCATION:Unit 4\, Ashgrove Industrial Estate\, Bromley\, Kent \, BR1 4JW\, United Kingdom
END:VEVENT
END:VCALENDAR