BEGIN:VCALENDAR
VERSION:2.0
PRODID:-//BTAAC - ECPv4.0//NONSGML v1.0//EN
CALSCALE:GREGORIAN
METHOD:PUBLISH
X-WR-CALNAME:BTAAC
X-ORIGINAL-URL:https://www.bromleygastraining.co.uk
X-WR-CALDESC:Events for BTAAC
BEGIN:VEVENT
DTSTART;TZID="":20190520T080000
DTEND;TZID="":20190523T170000
DTSTAMP:20260426T040649
CREATED:20190410T073546
LAST-MODIFIED:20190410T073546
UID:542-1558339200-1558630800@www.bromleygastraining.co.uk
SUMMARY:REFRESHER DOMESTIC CCN1 + APPLIANCES
DESCRIPTION:
URL:https://www.bromleygastraining.co.uk/course/refresher-domestic-ccn1-appliances-17/
LOCATION:Unit 4\, Ashgrove Industrial Estate\, Bromley\, Kent \, BR1 4JW\, United Kingdom
END:VEVENT
END:VCALENDAR