BEGIN:VCALENDAR
VERSION:2.0
PRODID:-//BTAAC - ECPv4.0//NONSGML v1.0//EN
CALSCALE:GREGORIAN
METHOD:PUBLISH
X-WR-CALNAME:BTAAC
X-ORIGINAL-URL:https://www.bromleygastraining.co.uk
X-WR-CALDESC:Events for BTAAC
BEGIN:VEVENT
DTSTART;TZID="":20181204T080000
DTEND;TZID="":20181206T160000
DTSTAMP:20260424T154056
CREATED:20181204T140615
LAST-MODIFIED:20181204T140615
UID:504-1543910400-1544112000@www.bromleygastraining.co.uk
SUMMARY:Refresher Domestic CCN1 + Appliances
DESCRIPTION:
URL:https://www.bromleygastraining.co.uk/course/refresher-domestic-ccn1-appliances-10/
LOCATION:Unit 4\, Ashgrove Industrial Estate\, Bromley\, Kent \, BR1 4JW\, United Kingdom
END:VEVENT
END:VCALENDAR