BEGIN:VCALENDAR
VERSION:2.0
PRODID:-//BTAAC - ECPv4.0//NONSGML v1.0//EN
CALSCALE:GREGORIAN
METHOD:PUBLISH
X-WR-CALNAME:BTAAC
X-ORIGINAL-URL:https://www.bromleygastraining.co.uk
X-WR-CALDESC:Events for BTAAC
BEGIN:VEVENT
DTSTART;TZID="":20180205T080000
DTEND;TZID="":20180208T160000
DTSTAMP:20260421T125749
CREATED:20180115T083753
LAST-MODIFIED:20180125T125545
UID:416-1517817600-1518105600@www.bromleygastraining.co.uk
SUMMARY:REFRESHER DOMESTIC CCN1 & APPLIANCES
DESCRIPTION:
URL:https://www.bromleygastraining.co.uk/course/refresher-ccn1-appliances-2/
LOCATION:Unit 4\, Ashgrove Industrial Estate\, Bromley\, Kent \, BR1 4JW\, United Kingdom
END:VEVENT
END:VCALENDAR