BEGIN:VCALENDAR
VERSION:2.0
PRODID:-//BTAAC - ECPv4.0//NONSGML v1.0//EN
CALSCALE:GREGORIAN
METHOD:PUBLISH
X-WR-CALNAME:BTAAC
X-ORIGINAL-URL:https://www.bromleygastraining.co.uk
X-WR-CALDESC:Events for BTAAC
BEGIN:VEVENT
DTSTART;TZID="":20180403T080000
DTEND;TZID="":20180406T170000
DTSTAMP:20260422T103651
CREATED:20180125T132508
LAST-MODIFIED:20180125T132508
UID:435-1522742400-1523034000@www.bromleygastraining.co.uk
SUMMARY:NO COURSES THIS WEEK
DESCRIPTION:
URL:https://www.bromleygastraining.co.uk/course/no-courses-this-week-3/
LOCATION:Unit 4\, Ashgrove Industrial Estate\, Bromley\, Kent \, BR1 4JW\, United Kingdom
END:VEVENT
END:VCALENDAR