BEGIN:VCALENDAR
VERSION:2.0
PRODID:-//BTAAC - ECPv4.0//NONSGML v1.0//EN
CALSCALE:GREGORIAN
METHOD:PUBLISH
X-WR-CALNAME:BTAAC
X-ORIGINAL-URL:https://www.bromleygastraining.co.uk
X-WR-CALDESC:Events for BTAAC
BEGIN:VEVENT
DTSTART;TZID="":20190422T080000
DTEND;TZID="":20190426T170000
DTSTAMP:20260425T170842
CREATED:20190327T114326
LAST-MODIFIED:20190327T114326
UID:528-1555920000-1556298000@www.bromleygastraining.co.uk
SUMMARY:NO COURSES - CLOSED FOR EASTER
DESCRIPTION:
URL:https://www.bromleygastraining.co.uk/course/no-courses-closed-for-easter/
LOCATION:Unit 4\, Ashgrove Industrial Estate\, Bromley\, Kent \, BR1 4JW\, United Kingdom
END:VEVENT
END:VCALENDAR