BEGIN:VCALENDAR
VERSION:2.0
PRODID:-//BTAAC - ECPv4.0//NONSGML v1.0//EN
CALSCALE:GREGORIAN
METHOD:PUBLISH
X-WR-CALNAME:BTAAC
X-ORIGINAL-URL:https://www.bromleygastraining.co.uk
X-WR-CALDESC:Events for BTAAC
BEGIN:VEVENT
DTSTART;VALUE=DATE:20190502
DTEND;VALUE=DATE:20190502
DTSTAMP:20260425T201910
CREATED:20190327
LAST-MODIFIED:20190327
UID:533-1556755200-1556841599@www.bromleygastraining.co.uk
SUMMARY:NO COURSES
DESCRIPTION:
URL:https://www.bromleygastraining.co.uk/course/no-courses-4/
LOCATION:Unit 4\, Ashgrove Industrial Estate\, Bromley\, Kent \, BR1 4JW\, United Kingdom
END:VEVENT
END:VCALENDAR