BEGIN:VCALENDAR
VERSION:2.0
PRODID:-//BTAAC - ECPv4.0//NONSGML v1.0//EN
CALSCALE:GREGORIAN
METHOD:PUBLISH
X-WR-CALNAME:BTAAC
X-ORIGINAL-URL:https://www.bromleygastraining.co.uk
X-WR-CALDESC:Events for BTAAC
BEGIN:VEVENT
DTSTART;TZID="":20180917T080000
DTEND;TZID="":20180921T160000
DTSTAMP:20260424T005108
CREATED:20180807T085635
LAST-MODIFIED:20180807T092707
UID:478-1537171200-1537545600@www.bromleygastraining.co.uk
SUMMARY:COMMERCIAL CORE + APPLIANCES - FULLY BOOKED
DESCRIPTION:
URL:https://www.bromleygastraining.co.uk/course/commercial-core-appliances-7/
LOCATION:Unit 4\, Ashgrove Industrial Estate\, Bromley\, Kent \, BR1 4JW\, United Kingdom
END:VEVENT
END:VCALENDAR