BEGIN:VCALENDAR
VERSION:2.0
PRODID:-//BTAAC - ECPv4.0//NONSGML v1.0//EN
CALSCALE:GREGORIAN
METHOD:PUBLISH
X-WR-CALNAME:BTAAC
X-ORIGINAL-URL:https://www.bromleygastraining.co.uk
X-WR-CALDESC:Events for BTAAC
BEGIN:VEVENT
DTSTART;TZID="":20180521T080000
DTEND;TZID="":20180524T170000
DTSTAMP:20260423T064226
CREATED:20180504T071222
LAST-MODIFIED:20180504T071222
UID:459-1526889600-1527181200@www.bromleygastraining.co.uk
SUMMARY:COMMERCIAL CORE + APPLIANCES
DESCRIPTION:
URL:https://www.bromleygastraining.co.uk/course/commercial-core-appliances-5/
LOCATION:Unit 4\, Ashgrove Industrial Estate\, Bromley\, Kent \, BR1 4JW\, United Kingdom
END:VEVENT
END:VCALENDAR