BEGIN:VCALENDAR
VERSION:2.0
PRODID:-//BTAAC - ECPv4.0//NONSGML v1.0//EN
CALSCALE:GREGORIAN
METHOD:PUBLISH
X-WR-CALNAME:BTAAC
X-ORIGINAL-URL:https://www.bromleygastraining.co.uk
X-WR-CALDESC:Events for BTAAC
BEGIN:VEVENT
DTSTART;TZID="":20180416T080000
DTEND;TZID="":20180419T160000
DTSTAMP:20260422T155822
CREATED:20180328T140938
LAST-MODIFIED:20180328T140938
UID:451-1523865600-1524153600@www.bromleygastraining.co.uk
SUMMARY:COMMERCIAL CORE + APPLIANCES
DESCRIPTION:
URL:https://www.bromleygastraining.co.uk/course/commercial-core-appliances-4/
LOCATION:Unit 4\, Ashgrove Industrial Estate\, Bromley\, Kent \, BR1 4JW\, United Kingdom
END:VEVENT
END:VCALENDAR